BEGIN:VCALENDAR
VERSION:2.0
PRODID:-//Department Of Education//232d01c7-eb5c-4d19-b425-1bf6790528cc
BEGIN:VTIMEZONE
TZID:Australia/Sydney
TZURL:http://tzurl.org/zoneinfo-outlook/Australia/Sydney
X-LIC-LOCATION:Australia/Sydney
BEGIN:STANDARD
TZOFFSETFROM:+1100
TZOFFSETTO:+1000
TZNAME:AEST
DTSTART:19700405T030000
RRULE:FREQ=YEARLY;BYMONTH=4;BYDAY=1SU
END:STANDARD
BEGIN:DAYLIGHT
TZOFFSETFROM:+1000
TZOFFSETTO:+1100
TZNAME:AEDT
DTSTART:19701004T020000
RRULE:FREQ=YEARLY;BYMONTH=10;BYDAY=1SU
END:DAYLIGHT
END:VTIMEZONE
CALSCALE:GREGORIAN
X-WR-TIMEZONE:Australia/Sydney
BEGIN:VEVENT
DTSTART;VALUE=DATE:20200219
DTEND;VALUE=DATE:20200220
DTSTAMP:20200219T000000Z
UID:baa19107-d4a3-4e8f-8cff-c0eada574cd1
LOCATION:Roselands Aquatic Centre
SUMMARY;LANGUAGE=en-us:Swimming Carnival 2020
SEQUENCE:0
DESCRIPTION:Ready, Set, Swim! Save the date for our annual swimming carnival. Students are to pay $10 to the front office and return their permission note to the PDHPE staffroom. 
END:VEVENT
TRANSP:TRANSPARENT
END:VCALENDAR
