BEGIN:VCALENDAR
VERSION:2.0
PRODID:-//Department Of Education//bd31872a-a494-469d-9894-0adb01359382
BEGIN:VTIMEZONE
TZID:Australia/Sydney
TZURL:http://tzurl.org/zoneinfo-outlook/Australia/Sydney
X-LIC-LOCATION:Australia/Sydney
BEGIN:STANDARD
TZOFFSETFROM:+1100
TZOFFSETTO:+1000
TZNAME:AEST
DTSTART:19700405T030000
RRULE:FREQ=YEARLY;BYMONTH=4;BYDAY=1SU
END:STANDARD
BEGIN:DAYLIGHT
TZOFFSETFROM:+1000
TZOFFSETTO:+1100
TZNAME:AEDT
DTSTART:19701004T020000
RRULE:FREQ=YEARLY;BYMONTH=10;BYDAY=1SU
END:DAYLIGHT
END:VTIMEZONE
CALSCALE:GREGORIAN
X-WR-TIMEZONE:Australia/Sydney
BEGIN:VEVENT
DTSTART;VALUE=DATE:20200309
DTEND;VALUE=DATE:20200314
DTSTAMP:20200309T000000Z
UID:8acf371d-0c3b-4318-b77a-33f5bcbcd9f0
LOCATION:Wiley Park Girls High School, 112-116 The Boulevarde, Wiley Park
SUMMARY;LANGUAGE=en-us:International Women's Week 2020
SEQUENCE:0
DESCRIPTION:Celebrating Women's Achievements Every year Wiley Park Girls High School celebrates International Women's Day with a range of exciting activities throughout the week. Mark this week in your calandar, it's going to be an exciting one! To be revealed...
END:VEVENT
TRANSP:TRANSPARENT
END:VCALENDAR
