BEGIN:VCALENDAR
VERSION:2.0
PRODID:-//Department Of Education//4e7d7e86-7158-4259-9f30-2ed0adc9099d
BEGIN:VTIMEZONE
TZID:Australia/Sydney
TZURL:http://tzurl.org/zoneinfo-outlook/Australia/Sydney
X-LIC-LOCATION:Australia/Sydney
BEGIN:STANDARD
TZOFFSETFROM:+1100
TZOFFSETTO:+1000
TZNAME:AEST
DTSTART:19700405T030000
RRULE:FREQ=YEARLY;BYMONTH=4;BYDAY=1SU
END:STANDARD
BEGIN:DAYLIGHT
TZOFFSETFROM:+1000
TZOFFSETTO:+1100
TZNAME:AEDT
DTSTART:19701004T020000
RRULE:FREQ=YEARLY;BYMONTH=10;BYDAY=1SU
END:DAYLIGHT
END:VTIMEZONE
CALSCALE:GREGORIAN
X-WR-TIMEZONE:Australia/Sydney
BEGIN:VEVENT
DTSTART;VALUE=DATE:20200407
DTEND;VALUE=DATE:20200408
DTSTAMP:20200407T000000Z
UID:a6651f8a-bc90-4f2e-9bb4-510f166455fe
LOCATION:TBC
SUMMARY;LANGUAGE=en-us:Athletics Carnival 2020
SEQUENCE:0
DESCRIPTION:Ready, Set, Go! Mark this date in your calandar for Wiley Park Girls High School's annual Athletics Carnival. Notes will be sent home in due time with more information. 
END:VEVENT
TRANSP:TRANSPARENT
END:VCALENDAR
