BEGIN:VCALENDAR
VERSION:2.0
PRODID:-//Department Of Education//65ed83e3-6ba9-4b44-a55d-a0a022aa93fa
BEGIN:VTIMEZONE
TZID:Australia/Sydney
TZURL:http://tzurl.org/zoneinfo-outlook/Australia/Sydney
X-LIC-LOCATION:Australia/Sydney
BEGIN:STANDARD
TZOFFSETFROM:+1100
TZOFFSETTO:+1000
TZNAME:AEST
DTSTART:19700405T030000
RRULE:FREQ=YEARLY;BYMONTH=4;BYDAY=1SU
END:STANDARD
BEGIN:DAYLIGHT
TZOFFSETFROM:+1000
TZOFFSETTO:+1100
TZNAME:AEDT
DTSTART:19701004T020000
RRULE:FREQ=YEARLY;BYMONTH=10;BYDAY=1SU
END:DAYLIGHT
END:VTIMEZONE
CALSCALE:GREGORIAN
X-WR-TIMEZONE:Australia/Sydney
BEGIN:VEVENT
DTSTART;VALUE=DATE:20200428
DTEND;VALUE=DATE:20200429
DTSTAMP:20200428T000000Z
UID:fb5fbe64-3b14-4f0c-84d8-738171c3912c
LOCATION:Wiley Park Girls High School, 112-116 The Boulevarde, Wiley Park
SUMMARY;LANGUAGE=en-us:First Day Term 2, 2020
SEQUENCE:0
DESCRIPTION:Wiley Park Girls High School would like to advise that students will return to school for Term 2 on the 28th of April. We hope you have had a wonderful, restful holiday break. 
END:VEVENT
TRANSP:TRANSPARENT
END:VCALENDAR
